{
 "currentVersion": 10.91,
 "serviceDescription": "",
 "mapName": "Base Map Pale",
 "description": "",
 "copyrightText": "",
 "supportsDynamicLayers": true,
 "layers": [
  {
   "id": 0,
   "name": "L A B E L S",
   "parentLayerId": -1,
   "defaultVisibility": true,
   "subLayerIds": [
    1,
    2,
    3,
    4,
    5,
    6,
    7,
    8,
    9,
    10,
    11,
    12,
    13
   ],
   "minScale": 0,
   "maxScale": 0,
   "type": "Group Layer"
  },
  {
   "id": 1,
   "name": "NY Counties",
   "parentLayerId": 0,
   "defaultVisibility": true,
   "subLayerIds": null,
   "minScale": 340000,
   "maxScale": 999,
   "type": "Feature Layer",
   "geometryType": "esriGeometryPolygon"
  },
  {
   "id": 2,
   "name": "NJ Counties",
   "parentLayerId": 0,
   "defaultVisibility": true,
   "subLayerIds": null,
   "minScale": 340000,
   "maxScale": 999,
   "type": "Feature Layer",
   "geometryType": "esriGeometryPolygon"
  },
  {
   "id": 3,
   "name": "CT Counties",
   "parentLayerId": 0,
   "defaultVisibility": true,
   "subLayerIds": null,
   "minScale": 340000,
   "maxScale": 999,
   "type": "Feature Layer",
   "geometryType": "esriGeometryPolygon"
  },
  {
   "id": 4,
   "name": "Borough Boundary",
   "parentLayerId": 0,
   "defaultVisibility": true,
   "subLayerIds": null,
   "minScale": 340000,
   "maxScale": 64001,
   "type": "Feature Layer",
   "geometryType": "esriGeometryPolygon"
  },
  {
   "id": 5,
   "name": "Neighborhoods",
   "parentLayerId": 0,
   "defaultVisibility": true,
   "subLayerIds": null,
   "minScale": 32000,
   "maxScale": 8001,
   "type": "Feature Layer",
   "geometryType": "esriGeometryPoint"
  },
  {
   "id": 6,
   "name": "Large Park Labels",
   "parentLayerId": 0,
   "defaultVisibility": true,
   "subLayerIds": null,
   "minScale": 8000,
   "maxScale": 999,
   "type": "Feature Layer",
   "geometryType": "esriGeometryPolygon"
  },
  {
   "id": 7,
   "name": "Small Parks Large Scale",
   "parentLayerId": 0,
   "defaultVisibility": true,
   "subLayerIds": null,
   "minScale": 4000,
   "maxScale": 999,
   "type": "Feature Layer",
   "geometryType": "esriGeometryPolygon"
  },
  {
   "id": 8,
   "name": "Open Space Label",
   "parentLayerId": 0,
   "defaultVisibility": true,
   "subLayerIds": null,
   "minScale": 16000,
   "maxScale": 999,
   "type": "Feature Layer",
   "geometryType": "esriGeometryPolygon"
  },
  {
   "id": 9,
   "name": "Highway Label",
   "parentLayerId": 0,
   "defaultVisibility": true,
   "subLayerIds": null,
   "minScale": 125000,
   "maxScale": 999,
   "type": "Feature Layer",
   "geometryType": "esriGeometryPolyline"
  },
  {
   "id": 10,
   "name": "Tamed LION Labels",
   "parentLayerId": 0,
   "defaultVisibility": true,
   "subLayerIds": null,
   "minScale": 340000,
   "maxScale": 999,
   "type": "Feature Layer",
   "geometryType": "esriGeometryPolyline"
  },
  {
   "id": 11,
   "name": "LION Street Direction",
   "parentLayerId": 0,
   "defaultVisibility": true,
   "subLayerIds": null,
   "minScale": 4000,
   "maxScale": 999,
   "type": "Feature Layer",
   "geometryType": "esriGeometryPolyline"
  },
  {
   "id": 12,
   "name": "Hydrography labels",
   "parentLayerId": 0,
   "defaultVisibility": true,
   "subLayerIds": null,
   "minScale": 8000,
   "maxScale": 999,
   "type": "Feature Layer",
   "geometryType": "esriGeometryPolygon"
  },
  {
   "id": 13,
   "name": "Hydrography Line Labels",
   "parentLayerId": 0,
   "defaultVisibility": true,
   "subLayerIds": null,
   "minScale": 125000,
   "maxScale": 999,
   "type": "Feature Layer",
   "geometryType": "esriGeometryPolyline"
  },
  {
   "id": 14,
   "name": "P O I",
   "parentLayerId": -1,
   "defaultVisibility": true,
   "subLayerIds": [
    15
   ],
   "minScale": 0,
   "maxScale": 0,
   "type": "Group Layer"
  },
  {
   "id": 15,
   "name": "Airport",
   "parentLayerId": 14,
   "defaultVisibility": true,
   "subLayerIds": null,
   "minScale": 125000,
   "maxScale": 999,
   "type": "Feature Layer",
   "geometryType": "esriGeometryPoint"
  },
  {
   "id": 16,
   "name": "B U I L D I N G S",
   "parentLayerId": -1,
   "defaultVisibility": true,
   "subLayerIds": [
    17
   ],
   "minScale": 0,
   "maxScale": 0,
   "type": "Group Layer"
  },
  {
   "id": 17,
   "name": "Building Footprint",
   "parentLayerId": 16,
   "defaultVisibility": true,
   "subLayerIds": null,
   "minScale": 4000,
   "maxScale": 999,
   "type": "Feature Layer",
   "geometryType": "esriGeometryPolygon"
  },
  {
   "id": 18,
   "name": "B O R D E R S",
   "parentLayerId": -1,
   "defaultVisibility": true,
   "subLayerIds": [
    19
   ],
   "minScale": 0,
   "maxScale": 0,
   "type": "Group Layer"
  },
  {
   "id": 19,
   "name": "NYCCountyBorders",
   "parentLayerId": 18,
   "defaultVisibility": true,
   "subLayerIds": null,
   "minScale": 340000,
   "maxScale": 16001,
   "type": "Feature Layer",
   "geometryType": "esriGeometryPolyline"
  },
  {
   "id": 20,
   "name": "R O A D B E D",
   "parentLayerId": -1,
   "defaultVisibility": true,
   "subLayerIds": [
    21,
    22,
    23,
    24,
    25
   ],
   "minScale": 0,
   "maxScale": 0,
   "type": "Group Layer"
  },
  {
   "id": 21,
   "name": "Railroad Above Road Bed",
   "parentLayerId": 20,
   "defaultVisibility": true,
   "subLayerIds": null,
   "minScale": 8000,
   "maxScale": 999,
   "type": "Feature Layer",
   "geometryType": "esriGeometryPolyline"
  },
  {
   "id": 22,
   "name": "Parks Aboce Road Bed",
   "parentLayerId": 20,
   "defaultVisibility": true,
   "subLayerIds": null,
   "minScale": 64000,
   "maxScale": 999,
   "type": "Feature Layer",
   "geometryType": "esriGeometryPolygon"
  },
  {
   "id": 23,
   "name": "Pavement Edge (2012)",
   "parentLayerId": 20,
   "defaultVisibility": true,
   "subLayerIds": null,
   "minScale": 8000,
   "maxScale": 999,
   "type": "Feature Layer",
   "geometryType": "esriGeometryPolyline"
  },
  {
   "id": 24,
   "name": "Road Bed",
   "parentLayerId": 20,
   "defaultVisibility": true,
   "subLayerIds": null,
   "minScale": 8000,
   "maxScale": 999,
   "type": "Feature Layer",
   "geometryType": "esriGeometryPolygon"
  },
  {
   "id": 25,
   "name": "Railroad",
   "parentLayerId": 20,
   "defaultVisibility": true,
   "subLayerIds": null,
   "minScale": 8000,
   "maxScale": 999,
   "type": "Feature Layer",
   "geometryType": "esriGeometryPolyline"
  },
  {
   "id": 26,
   "name": "L I O N",
   "parentLayerId": -1,
   "defaultVisibility": true,
   "subLayerIds": [
    27,
    28,
    29,
    30,
    31
   ],
   "minScale": 0,
   "maxScale": 0,
   "type": "Group Layer"
  },
  {
   "id": 27,
   "name": "Tamed LION (1:340,000)",
   "parentLayerId": 26,
   "defaultVisibility": true,
   "subLayerIds": null,
   "minScale": 340000,
   "maxScale": 125001,
   "type": "Feature Layer",
   "geometryType": "esriGeometryPolyline"
  },
  {
   "id": 28,
   "name": "Tamed LION (1:125,000)",
   "parentLayerId": 26,
   "defaultVisibility": true,
   "subLayerIds": null,
   "minScale": 125000,
   "maxScale": 64001,
   "type": "Feature Layer",
   "geometryType": "esriGeometryPolyline"
  },
  {
   "id": 29,
   "name": "Tamed LION (1:64,000)",
   "parentLayerId": 26,
   "defaultVisibility": true,
   "subLayerIds": null,
   "minScale": 64000,
   "maxScale": 32001,
   "type": "Feature Layer",
   "geometryType": "esriGeometryPolyline"
  },
  {
   "id": 30,
   "name": "Tamed LION (1:32,000)",
   "parentLayerId": 26,
   "defaultVisibility": true,
   "subLayerIds": null,
   "minScale": 32000,
   "maxScale": 16001,
   "type": "Feature Layer",
   "geometryType": "esriGeometryPolyline"
  },
  {
   "id": 31,
   "name": "Tamed LION (1:16,000)",
   "parentLayerId": 26,
   "defaultVisibility": true,
   "subLayerIds": null,
   "minScale": 16000,
   "maxScale": 8001,
   "type": "Feature Layer",
   "geometryType": "esriGeometryPolyline"
  },
  {
   "id": 32,
   "name": "H Y D R O G R A P H Y",
   "parentLayerId": -1,
   "defaultVisibility": true,
   "subLayerIds": [
    33,
    34
   ],
   "minScale": 0,
   "maxScale": 0,
   "type": "Group Layer"
  },
  {
   "id": 33,
   "name": "Hydrography",
   "parentLayerId": 32,
   "defaultVisibility": true,
   "subLayerIds": null,
   "minScale": 340000,
   "maxScale": 999,
   "type": "Feature Layer",
   "geometryType": "esriGeometryPolygon"
  },
  {
   "id": 34,
   "name": "Wetlands",
   "parentLayerId": 32,
   "defaultVisibility": true,
   "subLayerIds": null,
   "minScale": 64000,
   "maxScale": 999,
   "type": "Feature Layer",
   "geometryType": "esriGeometryPolygon"
  },
  {
   "id": 35,
   "name": "P A R K S & O P E N S P A C E",
   "parentLayerId": -1,
   "defaultVisibility": true,
   "subLayerIds": [
    36,
    37,
    38,
    39,
    40
   ],
   "minScale": 0,
   "maxScale": 0,
   "type": "Group Layer"
  },
  {
   "id": 36,
   "name": "JamaciaBay",
   "parentLayerId": 35,
   "defaultVisibility": true,
   "subLayerIds": null,
   "minScale": 340000,
   "maxScale": 99,
   "type": "Feature Layer",
   "geometryType": "esriGeometryPolygon"
  },
  {
   "id": 37,
   "name": "Parks (Small Scale)",
   "parentLayerId": 35,
   "defaultVisibility": true,
   "subLayerIds": null,
   "minScale": 340000,
   "maxScale": 64001,
   "type": "Feature Layer",
   "geometryType": "esriGeometryPolygon"
  },
  {
   "id": 38,
   "name": "Parks (Large Scale)",
   "parentLayerId": 35,
   "defaultVisibility": true,
   "subLayerIds": null,
   "minScale": 64000,
   "maxScale": 999,
   "type": "Feature Layer",
   "geometryType": "esriGeometryPolygon"
  },
  {
   "id": 39,
   "name": "Open Space (Small Scale)",
   "parentLayerId": 35,
   "defaultVisibility": true,
   "subLayerIds": null,
   "minScale": 340000,
   "maxScale": 64001,
   "type": "Feature Layer",
   "geometryType": "esriGeometryPolygon"
  },
  {
   "id": 40,
   "name": "Open Space (Large Scale)",
   "parentLayerId": 35,
   "defaultVisibility": true,
   "subLayerIds": null,
   "minScale": 64000,
   "maxScale": 999,
   "type": "Feature Layer",
   "geometryType": "esriGeometryPolygon"
  },
  {
   "id": 41,
   "name": "B O U N D A R I E S",
   "parentLayerId": -1,
   "defaultVisibility": true,
   "subLayerIds": [
    42,
    43,
    44,
    45,
    46
   ],
   "minScale": 0,
   "maxScale": 0,
   "type": "Group Layer"
  },
  {
   "id": 42,
   "name": "Borough Boundary",
   "parentLayerId": 41,
   "defaultVisibility": true,
   "subLayerIds": null,
   "minScale": 340000,
   "maxScale": 999,
   "type": "Feature Layer",
   "geometryType": "esriGeometryPolygon"
  },
  {
   "id": 43,
   "name": "NY Counties",
   "parentLayerId": 41,
   "defaultVisibility": true,
   "subLayerIds": null,
   "minScale": 340000,
   "maxScale": 999,
   "type": "Feature Layer",
   "geometryType": "esriGeometryPolygon"
  },
  {
   "id": 44,
   "name": "NJ Counties",
   "parentLayerId": 41,
   "defaultVisibility": true,
   "subLayerIds": null,
   "minScale": 340000,
   "maxScale": 999,
   "type": "Feature Layer",
   "geometryType": "esriGeometryPolygon"
  },
  {
   "id": 45,
   "name": "CT Counties",
   "parentLayerId": 41,
   "defaultVisibility": true,
   "subLayerIds": null,
   "minScale": 340000,
   "maxScale": 999,
   "type": "Feature Layer",
   "geometryType": "esriGeometryPolygon"
  },
  {
   "id": 46,
   "name": "WATER",
   "parentLayerId": 41,
   "defaultVisibility": true,
   "subLayerIds": null,
   "minScale": 0,
   "maxScale": 0,
   "type": "Feature Layer",
   "geometryType": "esriGeometryPolygon"
  }
 ],
 "tables": [],
 "spatialReference": {
  "wkid": 102718,
  "latestWkid": 2263
 },
 "singleFusedMapCache": true,
 "tileInfo": {
  "rows": 256,
  "cols": 256,
  "dpi": 96,
  "format": "PNG32",
  "compressionQuality": 0,
  "origin": {
   "x": -120039300,
   "y": 145506800
  },
  "spatialReference": {
   "wkid": 102718,
   "latestWkid": 2263
  },
  "lods": [
   {
    "level": 0,
    "resolution": 295.13888888888886,
    "scale": 340000
   },
   {
    "level": 1,
    "resolution": 217.01388888888889,
    "scale": 250000
   },
   {
    "level": 2,
    "resolution": 108.50694444444444,
    "scale": 125000
   },
   {
    "level": 3,
    "resolution": 55.55555555555555,
    "scale": 64000
   },
   {
    "level": 4,
    "resolution": 27.777777777777775,
    "scale": 32000
   },
   {
    "level": 5,
    "resolution": 13.888888888888888,
    "scale": 16000
   },
   {
    "level": 6,
    "resolution": 6.944444444444444,
    "scale": 8000
   },
   {
    "level": 7,
    "resolution": 3.472222222222222,
    "scale": 4000
   },
   {
    "level": 8,
    "resolution": 1.736111111111111,
    "scale": 2000
   },
   {
    "level": 9,
    "resolution": 0.8671875,
    "scale": 999
   }
  ]
 },
 "initialExtent": {
  "xmin": 908356.0655720502,
  "ymin": 200389.33739009502,
  "xmax": 1059614.7461276057,
  "ymax": 255944.8929456506,
  "spatialReference": {
   "wkid": 102718,
   "latestWkid": 2263
  }
 },
 "fullExtent": {
  "xmin": 730438.0473668128,
  "ymin": 65076.478821232915,
  "xmax": 1275698.5827721357,
  "ymax": 324671.80477389693,
  "spatialReference": {
   "wkid": 102718,
   "latestWkid": 2263
  }
 },
 "minScale": 340000,
 "maxScale": 999,
 "units": "esriFeet",
 "supportedImageFormatTypes": "PNG32,PNG24,PNG,JPG,DIB,TIFF,EMF,PS,PDF,GIF,SVG,SVGZ,BMP",
 "documentInfo": {
  "Title": "NYC DOT Base Map Lite",
  "Author": "P'arry Drew",
  "Comments": "",
  "Subject": "",
  "Category": "",
  "AntialiasingMode": "None",
  "TextAntialiasingMode": "Force",
  "Keywords": ""
 },
 "capabilities": "Map,Query,Data",
 "supportedQueryFormats": "JSON, geoJSON",
 "exportTilesAllowed": false,
 "referenceScale": 0,
 "supportsDatumTransformation": true,
 "maxRecordCount": 1000,
 "maxImageHeight": 4096,
 "maxImageWidth": 4096,
 "supportedExtensions": ""
}
